Package: HiBED Version: 1.8.0 Command: /home/biocbuild/bbs-3.22-bioc/R/bin/R CMD build --keep-empty-dirs --no-resave-data HiBED StartedAt: 2025-11-13 11:23:45 -0500 (Thu, 13 Nov 2025) EndedAt: 2025-11-13 11:24:56 -0500 (Thu, 13 Nov 2025) EllapsedTime: 71.2 seconds RetCode: 0 Status: OK PackageFile: HiBED_1.8.0.tar.gz PackageFileSize: 40.94 KiB