Package: HarmonizedTCGAData Version: 1.32.0 Command: /home/biocbuild/bbs-3.22-bioc/R/bin/R CMD INSTALL HarmonizedTCGAData StartedAt: 2025-11-13 10:56:51 -0500 (Thu, 13 Nov 2025) EndedAt: 2025-11-13 10:57:04 -0500 (Thu, 13 Nov 2025) EllapsedTime: 13.7 seconds RetCode: 0 Status: OK