Package: HarmonizedTCGAData Version: 1.32.0 Command: /home/biocbuild/bbs-3.22-bioc/R/bin/R CMD build --keep-empty-dirs --no-resave-data HarmonizedTCGAData StartedAt: 2025-11-13 11:22:08 -0500 (Thu, 13 Nov 2025) EndedAt: 2025-11-13 11:22:42 -0500 (Thu, 13 Nov 2025) EllapsedTime: 34.0 seconds RetCode: 0 Status: OK PackageFile: HarmonizedTCGAData_1.32.0.tar.gz PackageFileSize: 719.3 KiB