Package: HMP2Data Version: 1.24.0 Command: /home/biocbuild/bbs-3.22-bioc/R/bin/R CMD INSTALL HMP2Data StartedAt: 2025-11-13 11:00:36 -0500 (Thu, 13 Nov 2025) EndedAt: 2025-11-13 11:01:15 -0500 (Thu, 13 Nov 2025) EllapsedTime: 38.9 seconds RetCode: 0 Status: OK