Package: HD2013SGI Version: 1.50.0 Command: /home/biocbuild/bbs-3.22-bioc/R/bin/R CMD INSTALL HD2013SGI StartedAt: 2025-11-13 10:57:47 -0500 (Thu, 13 Nov 2025) EndedAt: 2025-11-13 10:58:02 -0500 (Thu, 13 Nov 2025) EllapsedTime: 15.4 seconds RetCode: 0 Status: OK