Package: HCATonsilData Version: 1.8.0 Command: /home/biocbuild/bbs-3.22-bioc/R/bin/R CMD INSTALL HCATonsilData StartedAt: 2025-11-13 11:02:58 -0500 (Thu, 13 Nov 2025) EndedAt: 2025-11-13 11:03:31 -0500 (Thu, 13 Nov 2025) EllapsedTime: 32.5 seconds RetCode: 0 Status: OK