Package: GeuvadisTranscriptExpr Version: 1.38.0 Command: /home/biocbuild/bbs-3.22-bioc/R/bin/R CMD build --keep-empty-dirs --no-resave-data GeuvadisTranscriptExpr StartedAt: 2025-11-13 11:20:17 -0500 (Thu, 13 Nov 2025) EndedAt: 2025-11-13 11:20:50 -0500 (Thu, 13 Nov 2025) EllapsedTime: 32.6 seconds RetCode: 0 Status: OK PackageFile: GeuvadisTranscriptExpr_1.38.0.tar.gz PackageFileSize: 7.202 MiB