Package: GenomicDistributionsData Version: 1.18.0 Command: /home/biocbuild/bbs-3.22-bioc/R/bin/R CMD INSTALL GenomicDistributionsData StartedAt: 2025-11-13 11:01:07 -0500 (Thu, 13 Nov 2025) EndedAt: 2025-11-13 11:01:44 -0500 (Thu, 13 Nov 2025) EllapsedTime: 36.8 seconds RetCode: 0 Status: OK