Package: FlowSorted.CordBloodCombined.450k Version: 1.26.0 Maintainer: Lucas A. Salas MaintainerEmail: lucas.a.salas.diaz at dartmouth.edu git_url: https://git.bioconductor.org/packages/FlowSorted.CordBloodCombined.450k git_branch: RELEASE_3_22 git_last_commit: 0b402b3 git_last_commit_date: 2025-10-29 10:01:17 -0500 (Wed, 29 Oct 2025)