Package: FlowSorted.Blood.EPIC Version: 2.14.0 Command: /home/biocbuild/bbs-3.22-bioc/R/bin/R CMD INSTALL FlowSorted.Blood.EPIC StartedAt: 2025-11-13 11:01:50 -0500 (Thu, 13 Nov 2025) EndedAt: 2025-11-13 11:02:33 -0500 (Thu, 13 Nov 2025) EllapsedTime: 43.4 seconds RetCode: 0 Status: OK