Package: FlowSorted.Blood.EPIC Version: 2.14.0 Command: /home/biocbuild/bbs-3.22-bioc/R/bin/R CMD build --keep-empty-dirs --no-resave-data FlowSorted.Blood.EPIC StartedAt: 2025-11-13 11:18:26 -0500 (Thu, 13 Nov 2025) EndedAt: 2025-11-13 11:24:08 -0500 (Thu, 13 Nov 2025) EllapsedTime: 341.5 seconds RetCode: 0 Status: OK PackageFile: FlowSorted.Blood.EPIC_2.14.0.tar.gz PackageFileSize: 96.17 KiB