Package: FlowSorted.Blood.EPIC Version: 2.12.0 Command: /home/biocbuild/bbs-3.21-bioc/R/bin/R CMD INSTALL FlowSorted.Blood.EPIC StartedAt: 2025-10-16 11:02:55 -0400 (Thu, 16 Oct 2025) EndedAt: 2025-10-16 11:03:38 -0400 (Thu, 16 Oct 2025) EllapsedTime: 42.6 seconds RetCode: 0 Status: OK