Package: FlowSorted.Blood.EPIC Version: 2.12.0 Command: /home/biocbuild/bbs-3.21-bioc/R/bin/R CMD build --keep-empty-dirs --no-resave-data FlowSorted.Blood.EPIC StartedAt: 2025-10-16 11:16:36 -0400 (Thu, 16 Oct 2025) EndedAt: 2025-10-16 11:22:13 -0400 (Thu, 16 Oct 2025) EllapsedTime: 337.5 seconds RetCode: 0 Status: OK PackageFile: FlowSorted.Blood.EPIC_2.12.0.tar.gz PackageFileSize: 96.18 KiB