Package: FlowSorted.Blood.450k Version: 1.48.0 Maintainer: Andrew E Jaffe MaintainerEmail: andrew.jaffe at libd.org git_url: https://git.bioconductor.org/packages/FlowSorted.Blood.450k git_branch: RELEASE_3_22 git_last_commit: 9e5687b git_last_commit_date: 2025-10-29 09:54:03 -0400 (Wed, 29 Oct 2025)