Package: Fletcher2013b Version: 1.46.0 Command: /home/biocbuild/bbs-3.22-bioc/R/bin/R CMD INSTALL Fletcher2013b StartedAt: 2025-11-13 11:04:11 -0500 (Thu, 13 Nov 2025) EndedAt: 2025-11-13 11:04:37 -0500 (Thu, 13 Nov 2025) EllapsedTime: 26.6 seconds RetCode: 0 Status: OK