Package: FieldEffectCrc Version: 1.18.0 Command: /home/biocbuild/bbs-3.21-bioc/R/bin/R CMD INSTALL FieldEffectCrc StartedAt: 2025-05-22 11:01:19 -0400 (Thu, 22 May 2025) EndedAt: 2025-05-22 11:01:48 -0400 (Thu, 22 May 2025) EllapsedTime: 28.5 seconds RetCode: 0 Status: OK