Package: EatonEtAlChIPseq Version: 0.48.0 Command: /home/biocbuild/bbs-3.22-bioc/R/bin/R CMD INSTALL EatonEtAlChIPseq StartedAt: 2025-11-13 11:01:09 -0500 (Thu, 13 Nov 2025) EndedAt: 2025-11-13 11:01:31 -0500 (Thu, 13 Nov 2025) EllapsedTime: 22.6 seconds RetCode: 0 Status: OK