Package: DuoClustering2018
Version: 1.26.0
Command: /home/biocbuild/bbs-3.21-bioc/R/bin/R CMD build --keep-empty-dirs --no-resave-data DuoClustering2018
StartedAt: 2025-05-22 11:14:31 -0400 (Thu, 22 May 2025)
EndedAt: 2025-05-22 11:16:08 -0400 (Thu, 22 May 2025)
EllapsedTime: 97.2 seconds
RetCode: 0
Status: OK
PackageFile: DuoClustering2018_1.26.0.tar.gz
PackageFileSize: 2.21 <A href="http://en.wikipedia.org/wiki/MiB" target="_blank">MiB</A>