Package: DuoClustering2018 Version: 1.28.0 Maintainer: Angelo Duò MaintainerEmail: angelo.duo at icloud.com git_url: https://git.bioconductor.org/packages/DuoClustering2018 git_branch: RELEASE_3_22 git_last_commit: 3a6eb6f git_last_commit_date: 2025-10-29 10:00:36 -0400 (Wed, 29 Oct 2025)