Package: DoReMiTra Version: 1.0.0 Command: /home/biocbuild/bbs-3.22-bioc/R/bin/R CMD build --keep-empty-dirs --no-resave-data DoReMiTra StartedAt: 2025-11-13 11:15:41 -0500 (Thu, 13 Nov 2025) EndedAt: 2025-11-13 11:16:46 -0500 (Thu, 13 Nov 2025) EllapsedTime: 65.9 seconds RetCode: 0 Status: OK PackageFile: DoReMiTra_1.0.0.tar.gz PackageFileSize: 1.105 MiB