Package: DeSousa2013 Version: 1.46.0 Command: /home/biocbuild/bbs-3.22-bioc/R/bin/R CMD INSTALL DeSousa2013 StartedAt: 2025-11-13 11:00:36 -0500 (Thu, 13 Nov 2025) EndedAt: 2025-11-13 11:01:08 -0500 (Thu, 13 Nov 2025) EllapsedTime: 32.6 seconds RetCode: 0 Status: OK