Package: DeSousa2013 Version: 1.46.0 Command: /home/biocbuild/bbs-3.22-bioc/R/bin/R CMD build --keep-empty-dirs --no-resave-data DeSousa2013 StartedAt: 2025-11-13 11:15:01 -0500 (Thu, 13 Nov 2025) EndedAt: 2025-11-13 11:15:49 -0500 (Thu, 13 Nov 2025) EllapsedTime: 47.6 seconds RetCode: 0 Status: OK PackageFile: DeSousa2013_1.46.0.tar.gz PackageFileSize: 44.76 MiB