Package: DNAZooData Version: 1.10.0 Command: /home/biocbuild/bbs-3.22-bioc/R/bin/R CMD INSTALL DNAZooData StartedAt: 2025-11-13 10:59:49 -0500 (Thu, 13 Nov 2025) EndedAt: 2025-11-13 11:00:16 -0500 (Thu, 13 Nov 2025) EllapsedTime: 26.6 seconds RetCode: 0 Status: OK