Package: DLBCL Version: 1.50.0 Command: /home/biocbuild/bbs-3.22-bioc/R/bin/R CMD build --keep-empty-dirs --no-resave-data DLBCL StartedAt: 2025-11-13 11:15:24 -0500 (Thu, 13 Nov 2025) EndedAt: 2025-11-13 11:15:26 -0500 (Thu, 13 Nov 2025) EllapsedTime: 2.0 seconds RetCode: 0 Status: OK PackageFile: DLBCL_1.50.0.tar.gz PackageFileSize: 5.525 MiB