Package: DAPARdata Version: 1.40.0 Command: /home/biocbuild/bbs-3.22-bioc/R/bin/R CMD INSTALL DAPARdata StartedAt: 2025-11-20 11:01:03 -0500 (Thu, 20 Nov 2025) EndedAt: 2025-11-20 11:01:44 -0500 (Thu, 20 Nov 2025) EllapsedTime: 41.5 seconds RetCode: 0 Status: OK