Package: DAPARdata Version: 1.40.0 Command: /home/biocbuild/bbs-3.22-bioc/R/bin/R CMD build --keep-empty-dirs --no-resave-data DAPARdata StartedAt: 2025-11-20 11:16:33 -0500 (Thu, 20 Nov 2025) EndedAt: 2025-11-20 11:17:16 -0500 (Thu, 20 Nov 2025) EllapsedTime: 43.0 seconds RetCode: 0 Status: OK PackageFile: DAPARdata_1.40.0.tar.gz PackageFileSize: 29.04 MiB