Package: CytoMethIC Version: 1.6.0 Command: /home/biocbuild/bbs-3.22-bioc/R/bin/R CMD INSTALL CytoMethIC StartedAt: 2025-11-13 11:04:38 -0500 (Thu, 13 Nov 2025) EndedAt: 2025-11-13 11:05:06 -0500 (Thu, 13 Nov 2025) EllapsedTime: 28.2 seconds RetCode: 0 Status: OK