Package: CopyhelpeR Version: 1.42.0 Command: /home/biocbuild/bbs-3.22-bioc/R/bin/R CMD INSTALL CopyhelpeR StartedAt: 2025-11-13 10:55:14 -0500 (Thu, 13 Nov 2025) EndedAt: 2025-11-13 10:55:17 -0500 (Thu, 13 Nov 2025) EllapsedTime: 3.1 seconds RetCode: 0 Status: OK