Package: CopyNeutralIMA Version: 1.26.0 Command: /home/biocbuild/bbs-3.21-bioc/R/bin/R CMD build --keep-empty-dirs --no-resave-data CopyNeutralIMA StartedAt: 2025-10-16 11:10:03 -0400 (Thu, 16 Oct 2025) EndedAt: 2025-10-16 11:13:30 -0400 (Thu, 16 Oct 2025) EllapsedTime: 206.4 seconds RetCode: 0 Status: OK PackageFile: CopyNeutralIMA_1.26.0.tar.gz PackageFileSize: 566.1 KiB