Package: ConnectivityMap Version: 1.46.0 Maintainer: Paul Shannon MaintainerEmail: pshannon at systemsbiology.org git_url: https://git.bioconductor.org/packages/ConnectivityMap git_branch: RELEASE_3_22 git_last_commit: 184b3e3 git_last_commit_date: 2025-10-29 09:53:01 -0400 (Wed, 29 Oct 2025)