Package: CluMSIDdata Version: 1.26.0 Command: /home/biocbuild/bbs-3.22-bioc/R/bin/R CMD build --keep-empty-dirs --no-resave-data CluMSIDdata StartedAt: 2025-11-13 11:10:43 -0500 (Thu, 13 Nov 2025) EndedAt: 2025-11-13 11:11:50 -0500 (Thu, 13 Nov 2025) EllapsedTime: 66.9 seconds RetCode: 0 Status: OK PackageFile: CluMSIDdata_1.26.0.tar.gz PackageFileSize: 47.27 MiB