Package: ChIPexoQualExample Version: 1.34.0 Command: /home/biocbuild/bbs-3.22-bioc/R/bin/R CMD INSTALL ChIPexoQualExample StartedAt: 2025-11-13 10:55:32 -0500 (Thu, 13 Nov 2025) EndedAt: 2025-11-13 10:55:34 -0500 (Thu, 13 Nov 2025) EllapsedTime: 1.5 seconds RetCode: 0 Status: OK