Package: ChIPexoQualExample Version: 1.34.0 Command: /home/biocbuild/bbs-3.22-bioc/R/bin/R CMD check --install=check:ChIPexoQualExample.install-out.txt --library=/home/biocbuild/bbs-3.22-bioc/R/site-library --timings ChIPexoQualExample_1.34.0.tar.gz StartedAt: 2025-11-13 12:08:35 -0500 (Thu, 13 Nov 2025) EndedAt: 2025-11-13 12:09:25 -0500 (Thu, 13 Nov 2025) EllapsedTime: 50.1 seconds RetCode: 0 Status: OK CheckDir: ChIPexoQualExample.Rcheck Warnings: 0