Package: ChIPexoQualExample Version: 1.34.0 Command: /home/biocbuild/bbs-3.22-bioc/R/bin/R CMD build --keep-empty-dirs --no-resave-data ChIPexoQualExample StartedAt: 2025-11-13 11:10:05 -0500 (Thu, 13 Nov 2025) EndedAt: 2025-11-13 11:10:19 -0500 (Thu, 13 Nov 2025) EllapsedTime: 13.6 seconds RetCode: 0 Status: OK PackageFile: ChIPexoQualExample_1.34.0.tar.gz PackageFileSize: 152.3 MiB