Package: ChIPXpressData Version: 1.48.0 Command: /home/biocbuild/bbs-3.22-bioc/R/bin/R CMD INSTALL ChIPXpressData StartedAt: 2025-11-13 10:56:01 -0500 (Thu, 13 Nov 2025) EndedAt: 2025-11-13 10:56:07 -0500 (Thu, 13 Nov 2025) EllapsedTime: 6.3 seconds RetCode: 0 Status: OK