Package: ChIPXpressData Version: 1.48.0 Command: /home/biocbuild/bbs-3.22-bioc/R/bin/R CMD build --keep-empty-dirs --no-resave-data ChIPXpressData StartedAt: 2025-11-13 11:10:17 -0500 (Thu, 13 Nov 2025) EndedAt: 2025-11-13 11:15:27 -0500 (Thu, 13 Nov 2025) EllapsedTime: 310.8 seconds RetCode: 0 Status: OK PackageFile: ChIPXpressData_1.48.0.tar.gz PackageFileSize: 3.171 GiB