Package: CardinalWorkflows Version: 1.42.0 Command: /home/biocbuild/bbs-3.22-bioc/R/bin/R CMD INSTALL CardinalWorkflows StartedAt: 2025-11-13 10:57:54 -0500 (Thu, 13 Nov 2025) EndedAt: 2025-11-13 10:58:08 -0500 (Thu, 13 Nov 2025) EllapsedTime: 13.5 seconds RetCode: 0 Status: OK