Package: CardinalWorkflows Version: 1.42.0 Command: /home/biocbuild/bbs-3.22-bioc/R/bin/R CMD build --keep-empty-dirs --no-resave-data CardinalWorkflows StartedAt: 2025-11-13 11:09:01 -0500 (Thu, 13 Nov 2025) EndedAt: 2025-11-13 11:58:00 -0500 (Thu, 13 Nov 2025) EllapsedTime: 2938.8 seconds RetCode: 0 Status: OK PackageFile: CardinalWorkflows_1.42.0.tar.gz PackageFileSize: 53.52 MiB