Package: CardinalWorkflows Version: 1.40.0 Command: /home/biocbuild/bbs-3.21-bioc/R/bin/R CMD INSTALL CardinalWorkflows StartedAt: 2025-10-16 10:58:01 -0400 (Thu, 16 Oct 2025) EndedAt: 2025-10-16 10:58:14 -0400 (Thu, 16 Oct 2025) EllapsedTime: 12.8 seconds RetCode: 0 Status: OK