Package: CardinalWorkflows Version: 1.40.0 Command: /home/biocbuild/bbs-3.21-bioc/R/bin/R CMD build --keep-empty-dirs --no-resave-data CardinalWorkflows StartedAt: 2025-10-16 11:07:29 -0400 (Thu, 16 Oct 2025) EndedAt: 2025-10-16 11:22:32 -0400 (Thu, 16 Oct 2025) EllapsedTime: 902.5 seconds RetCode: 0 Status: OK PackageFile: CardinalWorkflows_1.40.0.tar.gz PackageFileSize: 53.5 MiB