Package: CRCL18 Version: 1.30.0 Command: /home/biocbuild/bbs-3.22-bioc/R/bin/R CMD INSTALL CRCL18 StartedAt: 2025-11-13 10:56:29 -0500 (Thu, 13 Nov 2025) EndedAt: 2025-11-13 10:56:32 -0500 (Thu, 13 Nov 2025) EllapsedTime: 2.5 seconds RetCode: 0 Status: OK