Package: COSMIC.67
Version: 1.44.0
Maintainer: Julian Gehring
MaintainerEmail: jg-bioc at gmx.com
git_url: https://git.bioconductor.org/packages/COSMIC.67
git_branch: RELEASE_3_21
git_last_commit: db83c10
git_last_commit_date: 2025-04-15 09:24:54 -0400 (Tue, 15 Apr 2025)