Package: CLL Version: 1.50.0 Command: /home/biocbuild/bbs-3.22-bioc/R/bin/R CMD INSTALL CLL StartedAt: 2025-11-13 10:56:12 -0500 (Thu, 13 Nov 2025) EndedAt: 2025-11-13 10:56:17 -0500 (Thu, 13 Nov 2025) EllapsedTime: 4.5 seconds RetCode: 0 Status: OK