Package: CLL Version: 1.50.0 Command: /home/biocbuild/bbs-3.22-bioc/R/bin/R CMD build --keep-empty-dirs --no-resave-data CLL StartedAt: 2025-11-13 11:10:30 -0500 (Thu, 13 Nov 2025) EndedAt: 2025-11-13 11:10:34 -0500 (Thu, 13 Nov 2025) EllapsedTime: 4.0 seconds RetCode: 0 Status: OK PackageFile: CLL_1.50.0.tar.gz PackageFileSize: 15.89 MiB