Package: CENTREprecomputed Version: 1.0.0 Command: /home/biocbuild/bbs-3.22-bioc/R/bin/R CMD INSTALL CENTREprecomputed StartedAt: 2025-11-13 10:57:42 -0500 (Thu, 13 Nov 2025) EndedAt: 2025-11-13 10:57:55 -0500 (Thu, 13 Nov 2025) EllapsedTime: 13.7 seconds RetCode: 0 Status: OK