Package: CCl4 Version: 1.48.0 Command: /home/biocbuild/bbs-3.22-bioc/R/bin/R CMD INSTALL CCl4 StartedAt: 2025-11-13 10:56:19 -0500 (Thu, 13 Nov 2025) EndedAt: 2025-11-13 10:56:25 -0500 (Thu, 13 Nov 2025) EllapsedTime: 5.9 seconds RetCode: 0 Status: OK