Package: CCl4 Version: 1.48.0 Command: /home/biocbuild/bbs-3.22-bioc/R/bin/R CMD build --keep-empty-dirs --no-resave-data CCl4 StartedAt: 2025-11-13 11:09:04 -0500 (Thu, 13 Nov 2025) EndedAt: 2025-11-13 11:10:05 -0500 (Thu, 13 Nov 2025) EllapsedTime: 60.6 seconds RetCode: 0 Status: OK PackageFile: CCl4_1.48.0.tar.gz PackageFileSize: 110.3 MiB