Package: CCl4 Version: 1.46.0 Command: /home/biocbuild/bbs-3.21-bioc/R/bin/R CMD INSTALL CCl4 StartedAt: 2025-05-01 10:56:27 -0400 (Thu, 01 May 2025) EndedAt: 2025-05-01 10:56:37 -0400 (Thu, 01 May 2025) EllapsedTime: 9.6 seconds RetCode: 0 Status: OK