Package: CCl4 Version: 1.46.0 Command: /home/biocbuild/bbs-3.21-bioc/R/bin/R CMD check --install=check:CCl4.install-out.txt --library=/home/biocbuild/bbs-3.21-bioc/R/site-library --timings CCl4_1.46.0.tar.gz StartedAt: 2025-05-01 11:50:16 -0400 (Thu, 01 May 2025) EndedAt: 2025-05-01 11:51:50 -0400 (Thu, 01 May 2025) EllapsedTime: 94.9 seconds RetCode: 0 Status: WARNINGS CheckDir: CCl4.Rcheck Warnings: 1