Package: BloodCancerMultiOmics2017 Version: 1.30.0 Command: /home/biocbuild/bbs-3.22-bioc/R/bin/R CMD INSTALL BloodCancerMultiOmics2017 StartedAt: 2025-11-13 10:59:47 -0500 (Thu, 13 Nov 2025) EndedAt: 2025-11-13 11:00:36 -0500 (Thu, 13 Nov 2025) EllapsedTime: 49.0 seconds RetCode: 0 Status: OK